BEGIN:VCALENDAR
VERSION:2.0
PRODID:-//The 789s - ECPv6.15.13.1//NONSGML v1.0//EN
CALSCALE:GREGORIAN
METHOD:PUBLISH
X-WR-CALNAME:The 789s
X-ORIGINAL-URL:https://rockthe789s.com
X-WR-CALDESC:Events for The 789s
REFRESH-INTERVAL;VALUE=DURATION:PT1H
X-Robots-Tag:noindex
X-PUBLISHED-TTL:PT1H
BEGIN:VTIMEZONE
TZID:America/New_York
BEGIN:DAYLIGHT
TZOFFSETFROM:-0500
TZOFFSETTO:-0400
TZNAME:EDT
DTSTART:20240310T070000
END:DAYLIGHT
BEGIN:STANDARD
TZOFFSETFROM:-0400
TZOFFSETTO:-0500
TZNAME:EST
DTSTART:20241103T060000
END:STANDARD
BEGIN:DAYLIGHT
TZOFFSETFROM:-0500
TZOFFSETTO:-0400
TZNAME:EDT
DTSTART:20250309T070000
END:DAYLIGHT
BEGIN:STANDARD
TZOFFSETFROM:-0400
TZOFFSETTO:-0500
TZNAME:EST
DTSTART:20251102T060000
END:STANDARD
BEGIN:DAYLIGHT
TZOFFSETFROM:-0500
TZOFFSETTO:-0400
TZNAME:EDT
DTSTART:20260308T070000
END:DAYLIGHT
BEGIN:STANDARD
TZOFFSETFROM:-0400
TZOFFSETTO:-0500
TZNAME:EST
DTSTART:20261101T060000
END:STANDARD
END:VTIMEZONE
BEGIN:VEVENT
DTSTART;TZID=America/New_York:20251023T193000
DTEND;TZID=America/New_York:20251023T233000
DTSTAMP:20260424T003441
CREATED:20250830T125518Z
LAST-MODIFIED:20250830T125518Z
UID:8135-1761247800-1761262200@rockthe789s.com
SUMMARY:The 789s Duo @ Post Time
DESCRIPTION:Spend your Thursday night with the 789s+ Duo at Post Time! 🎶 Brittany’s powerhouse vocals and Memphis’s guitar magic bring timeless hits and modern favorites to life in a stripped-down\, unforgettable style. Perfect for a night of great music\, good friends\, and the kind of vibes that keep you coming back. \n#Orlandolivemusic #PostTime #Thursdaynight
URL:https://rockthe789s.com/date/the-789s-duo-post-time/
LOCATION:Post Time\, 2500 S US Hwy 17 92\, Longwood\, FL\, 32750\, United States
ATTACH;FMTTYPE=image/png:https://rockthe789s.com/wp-content/uploads/2025/08/Post-Time-Logo.png
END:VEVENT
END:VCALENDAR