BEGIN:VCALENDAR
VERSION:2.0
PRODID:-//The 789s - ECPv6.15.13.1//NONSGML v1.0//EN
CALSCALE:GREGORIAN
METHOD:PUBLISH
X-WR-CALNAME:The 789s
X-ORIGINAL-URL:https://rockthe789s.com
X-WR-CALDESC:Events for The 789s
REFRESH-INTERVAL;VALUE=DURATION:PT1H
X-Robots-Tag:noindex
X-PUBLISHED-TTL:PT1H
BEGIN:VTIMEZONE
TZID:America/New_York
BEGIN:DAYLIGHT
TZOFFSETFROM:-0500
TZOFFSETTO:-0400
TZNAME:EDT
DTSTART:20250309T070000
END:DAYLIGHT
BEGIN:STANDARD
TZOFFSETFROM:-0400
TZOFFSETTO:-0500
TZNAME:EST
DTSTART:20251102T060000
END:STANDARD
BEGIN:DAYLIGHT
TZOFFSETFROM:-0500
TZOFFSETTO:-0400
TZNAME:EDT
DTSTART:20260308T070000
END:DAYLIGHT
BEGIN:STANDARD
TZOFFSETFROM:-0400
TZOFFSETTO:-0500
TZNAME:EST
DTSTART:20261101T060000
END:STANDARD
BEGIN:DAYLIGHT
TZOFFSETFROM:-0500
TZOFFSETTO:-0400
TZNAME:EDT
DTSTART:20270314T070000
END:DAYLIGHT
BEGIN:STANDARD
TZOFFSETFROM:-0400
TZOFFSETTO:-0500
TZNAME:EST
DTSTART:20271107T060000
END:STANDARD
END:VTIMEZONE
BEGIN:VEVENT
DTSTART;TZID=America/New_York:20260403T200000
DTEND;TZID=America/New_York:20260403T210000
DTSTAMP:20260423T171231
CREATED:20260214T201623Z
LAST-MODIFIED:20260214T201623Z
UID:8298-1775246400-1775250000@rockthe789s.com
SUMMARY:The 789s @ Hard Rock Daytona
DESCRIPTION:Come celebrate the best of Bon Jovi as The 789s will be opening for Slippery When Wet at Hard Rock in Daytona Beach. We’ll be doing a special set made up of mostly 80s music and hope you’ll come Raise Your Hands with us that night \nTickets are only $20! Hope to see you there!!\n\n#bonjovi #hardrock #hardrockdaytona #slipperywhenwet #the789s
URL:https://rockthe789s.com/date/the-789s-hard-rock-daytona-2/
LOCATION:Hard Rock Daytona\, 918 N Atlantic Avenue\, Daytona Beach\, FL\, 32118\, United States
ATTACH;FMTTYPE=image/png:https://rockthe789s.com/wp-content/uploads/2025/08/889c7f83-f5e3-4e0e-8c47-400a2e3b50e8.png
END:VEVENT
END:VCALENDAR