BEGIN:VCALENDAR
VERSION:2.0
PRODID:-//The 789s - ECPv6.15.13.1//NONSGML v1.0//EN
CALSCALE:GREGORIAN
METHOD:PUBLISH
X-WR-CALNAME:The 789s
X-ORIGINAL-URL:https://rockthe789s.com
X-WR-CALDESC:Events for The 789s
REFRESH-INTERVAL;VALUE=DURATION:PT1H
X-Robots-Tag:noindex
X-PUBLISHED-TTL:PT1H
BEGIN:VTIMEZONE
TZID:America/New_York
BEGIN:DAYLIGHT
TZOFFSETFROM:-0500
TZOFFSETTO:-0400
TZNAME:EDT
DTSTART:20250309T070000
END:DAYLIGHT
BEGIN:STANDARD
TZOFFSETFROM:-0400
TZOFFSETTO:-0500
TZNAME:EST
DTSTART:20251102T060000
END:STANDARD
BEGIN:DAYLIGHT
TZOFFSETFROM:-0500
TZOFFSETTO:-0400
TZNAME:EDT
DTSTART:20260308T070000
END:DAYLIGHT
BEGIN:STANDARD
TZOFFSETFROM:-0400
TZOFFSETTO:-0500
TZNAME:EST
DTSTART:20261101T060000
END:STANDARD
BEGIN:DAYLIGHT
TZOFFSETFROM:-0500
TZOFFSETTO:-0400
TZNAME:EDT
DTSTART:20270314T070000
END:DAYLIGHT
BEGIN:STANDARD
TZOFFSETFROM:-0400
TZOFFSETTO:-0500
TZNAME:EST
DTSTART:20271107T060000
END:STANDARD
END:VTIMEZONE
BEGIN:VEVENT
DTSTART;TZID=America/New_York:20260620T210000
DTEND;TZID=America/New_York:20260620T230000
DTSTAMP:20260423T192706
CREATED:20260131T194247Z
LAST-MODIFIED:20260419T013843Z
UID:8284-1781989200-1781996400@rockthe789s.com
SUMMARY:The 789s @ Hard Rock Cafe Tampa
DESCRIPTION:The 789s are thrilled to be back at Hard Rock Cafe!!! We’ll get you dancing and singing all night long to the songs you forgot you love from the 70s\, 80s and 90s. From classic rock to disco and pop\, all rocked out and ready go keep you moving on the dance floor  \n\n#hardrock #hardrockcafe #tampa #tampamusic #the789s
URL:https://rockthe789s.com/date/the-789s-hard-rock-cafe-tampa/
LOCATION:Hard Rock Tampa\, 5223 Orient Road\, Tampa\, FL\, 33610\, United States
ATTACH;FMTTYPE=image/png:https://rockthe789s.com/wp-content/uploads/2025/08/c30173d7-5117-4914-9bca-129d180b6d9a.png
END:VEVENT
END:VCALENDAR