BEGIN:VCALENDAR
VERSION:2.0
PRODID:-//The 789s - ECPv6.15.13.1//NONSGML v1.0//EN
CALSCALE:GREGORIAN
METHOD:PUBLISH
X-WR-CALNAME:The 789s
X-ORIGINAL-URL:https://rockthe789s.com
X-WR-CALDESC:Events for The 789s
REFRESH-INTERVAL;VALUE=DURATION:PT1H
X-Robots-Tag:noindex
X-PUBLISHED-TTL:PT1H
BEGIN:VTIMEZONE
TZID:America/New_York
BEGIN:DAYLIGHT
TZOFFSETFROM:-0500
TZOFFSETTO:-0400
TZNAME:EDT
DTSTART:20240310T070000
END:DAYLIGHT
BEGIN:STANDARD
TZOFFSETFROM:-0400
TZOFFSETTO:-0500
TZNAME:EST
DTSTART:20241103T060000
END:STANDARD
BEGIN:DAYLIGHT
TZOFFSETFROM:-0500
TZOFFSETTO:-0400
TZNAME:EDT
DTSTART:20250309T070000
END:DAYLIGHT
BEGIN:STANDARD
TZOFFSETFROM:-0400
TZOFFSETTO:-0500
TZNAME:EST
DTSTART:20251102T060000
END:STANDARD
BEGIN:DAYLIGHT
TZOFFSETFROM:-0500
TZOFFSETTO:-0400
TZNAME:EDT
DTSTART:20260308T070000
END:DAYLIGHT
BEGIN:STANDARD
TZOFFSETFROM:-0400
TZOFFSETTO:-0500
TZNAME:EST
DTSTART:20261101T060000
END:STANDARD
END:VTIMEZONE
BEGIN:VEVENT
DTSTART;TZID=America/New_York:20250906T170000
DTEND;TZID=America/New_York:20250906T210000
DTSTAMP:20260424T023553
CREATED:20250825T163408Z
LAST-MODIFIED:20250903T202538Z
UID:8079-1757178000-1757192400@rockthe789s.com
SUMMARY:The 789s @ The Villages (Brownwood Paddock)
DESCRIPTION:Brownwood Paddock\, get ready! The 789s are making their Villages debut with a high-energy show packed with the best of the 70s\, 80s\, and 90s. Expect big sing-alongs\, pop surprises\, and rock favorites you won’t hear from anyone else. First time’s a party—you don’t want to miss it!\n…\n#BrownwoodPaddockSquare #TheVillagesEvents #TheVillagesFL
URL:https://rockthe789s.com/date/the-789s-the-villages-brownwood-paddock/
LOCATION:The Villages (Brownwood Paddock)\, 2705 W Torch Lake Drive\, Wildwood\, FL\, 32163\, United States
ATTACH;FMTTYPE=image/png:https://rockthe789s.com/wp-content/uploads/2025/08/The_Villages_text_logo.svg_.png
END:VEVENT
BEGIN:VEVENT
DTSTART;TZID=America/New_York:20250903T180000
DTEND;TZID=America/New_York:20250903T220000
DTSTAMP:20260424T023553
CREATED:20250825T164122Z
LAST-MODIFIED:20250903T202433Z
UID:8083-1756922400-1756936800@rockthe789s.com
SUMMARY:The 789s Duo @ Hard Rock Tampa
DESCRIPTION:Big songs\, small setup\, unforgettable energy. Brittany & Memphis deliver your favorite hits from the 70s through today in true 789s fashion. Experience a night that jumps across decades—sing\, dance\, and vibe with us. \n🎶 Don’t just watch—be part of the show. RSVP now and join the fun! 🎶 \n#hardrocktampa #tampalivemusic
URL:https://rockthe789s.com/date/the-789s-duo-hard-rock-tampa/
LOCATION:Hard Rock Tampa\, 5223 Orient Road\, Tampa\, FL\, 33610\, United States
ATTACH;FMTTYPE=image/png:https://rockthe789s.com/wp-content/uploads/2025/08/c30173d7-5117-4914-9bca-129d180b6d9a.png
END:VEVENT
END:VCALENDAR