BEGIN:VCALENDAR
VERSION:2.0
PRODID:-//The 789s - ECPv6.15.13.1//NONSGML v1.0//EN
CALSCALE:GREGORIAN
METHOD:PUBLISH
X-WR-CALNAME:The 789s
X-ORIGINAL-URL:https://rockthe789s.com
X-WR-CALDESC:Events for The 789s
REFRESH-INTERVAL;VALUE=DURATION:PT1H
X-Robots-Tag:noindex
X-PUBLISHED-TTL:PT1H
BEGIN:VTIMEZONE
TZID:America/New_York
BEGIN:DAYLIGHT
TZOFFSETFROM:-0500
TZOFFSETTO:-0400
TZNAME:EDT
DTSTART:20240310T070000
END:DAYLIGHT
BEGIN:STANDARD
TZOFFSETFROM:-0400
TZOFFSETTO:-0500
TZNAME:EST
DTSTART:20241103T060000
END:STANDARD
BEGIN:DAYLIGHT
TZOFFSETFROM:-0500
TZOFFSETTO:-0400
TZNAME:EDT
DTSTART:20250309T070000
END:DAYLIGHT
BEGIN:STANDARD
TZOFFSETFROM:-0400
TZOFFSETTO:-0500
TZNAME:EST
DTSTART:20251102T060000
END:STANDARD
BEGIN:DAYLIGHT
TZOFFSETFROM:-0500
TZOFFSETTO:-0400
TZNAME:EDT
DTSTART:20260308T070000
END:DAYLIGHT
BEGIN:STANDARD
TZOFFSETFROM:-0400
TZOFFSETTO:-0500
TZNAME:EST
DTSTART:20261101T060000
END:STANDARD
END:VTIMEZONE
BEGIN:VEVENT
DTSTART;TZID=America/New_York:20251002T190000
DTEND;TZID=America/New_York:20251002T230000
DTSTAMP:20260423T233054
CREATED:20250825T160237Z
LAST-MODIFIED:20250825T160237Z
UID:8061-1759431600-1759446000@rockthe789s.com
SUMMARY:The 789s Duo @ The Alley
DESCRIPTION:
URL:https://rockthe789s.com/date/the-789s-duo-the-alley/
LOCATION:The Alley\, 114 S Park Avenue\, Sanford\, FL\, 32771\, United States
ATTACH;FMTTYPE=image/jpeg:https://rockthe789s.com/wp-content/uploads/2025/08/Alley-Logoi-240-x-240.jpg
END:VEVENT
BEGIN:VEVENT
DTSTART;TZID=America/New_York:20251003T203000
DTEND;TZID=America/New_York:20251004T000000
DTSTAMP:20260423T233054
CREATED:20250825T155946Z
LAST-MODIFIED:20250825T155946Z
UID:8058-1759523400-1759536000@rockthe789s.com
SUMMARY:The 789s @ The Alley
DESCRIPTION:
URL:https://rockthe789s.com/date/the-789s-the-alley-2/
LOCATION:The Alley\, 114 S Park Avenue\, Sanford\, FL\, 32771\, United States
ATTACH;FMTTYPE=image/jpeg:https://rockthe789s.com/wp-content/uploads/2025/08/Alley-Logoi-240-x-240.jpg
END:VEVENT
BEGIN:VEVENT
DTSTART;TZID=America/New_York:20251010T180000
DTEND;TZID=America/New_York:20251010T210000
DTSTAMP:20260423T233054
CREATED:20250825T183233Z
LAST-MODIFIED:20250825T183233Z
UID:8103-1760119200-1760130000@rockthe789s.com
SUMMARY:The 789s Duo @ The Wheelhouse 19th Hole
DESCRIPTION:
URL:https://rockthe789s.com/date/the-789s-duo-the-wheelhouse-19th-hole/
LOCATION:The Wheelhouse 19th Hole\, 102 Polo Park East Blvd.\, FL\, 33897\, United States
ATTACH;FMTTYPE=image/jpeg:https://rockthe789s.com/wp-content/uploads/2025/08/74422716_387746948800634_6280405375564906496_n.jpg
END:VEVENT
BEGIN:VEVENT
DTSTART;TZID=America/New_York:20251017T170000
DTEND;TZID=America/New_York:20251017T210000
DTSTAMP:20260423T233054
CREATED:20250825T155713Z
LAST-MODIFIED:20250903T202821Z
UID:8054-1760720400-1760734800@rockthe789s.com
SUMMARY:The 789s @ The Villages (Sawgrass Grove)
DESCRIPTION:
URL:https://rockthe789s.com/date/the-789s-the-villages-sawgrass-grove/
LOCATION:The Villages (Sawgrass Grove)\, 766 Marilee Place\, Wildwood\, FL\, 34785\, United States
ATTACH;FMTTYPE=image/png:https://rockthe789s.com/wp-content/uploads/2025/08/The_Villages_text_logo.svg_.png
END:VEVENT
BEGIN:VEVENT
DTSTART;TZID=America/New_York:20251018T120000
DTEND;TZID=America/New_York:20251018T150000
DTSTAMP:20260423T233054
CREATED:20250903T200126Z
LAST-MODIFIED:20250910T180804Z
UID:8154-1760788800-1760799600@rockthe789s.com
SUMMARY:Rocktoberfest Tavares
DESCRIPTION:The 789s are rocking Rocktoberfest in Tavares! 🎶 Get ready for a high-energy show packed with 70s\, 80s\, and 90s favorites—plus surprise hits with that unmistakable 789s edge. It’s a festival of music\, fun\, and community\, and we’re bringing the soundtrack that will keep you singing all day long. 🍻🎸 \n#Rocktoberfest #TavaresEvents #TavaresFL \n 
URL:https://rockthe789s.com/date/rocktoberfest-tavares/
LOCATION:Rocktoberfest Tavares\, Wooton Park\, 100 E. Ruby Street\, Tavares\, FL\, 32778\, United States
ATTACH;FMTTYPE=image/png:https://rockthe789s.com/wp-content/uploads/2025/09/Rocktoberfest_Tavares_16x9_white.png
END:VEVENT
BEGIN:VEVENT
DTSTART;TZID=America/New_York:20251023T193000
DTEND;TZID=America/New_York:20251023T233000
DTSTAMP:20260423T233054
CREATED:20250830T125518Z
LAST-MODIFIED:20250830T125518Z
UID:8135-1761247800-1761262200@rockthe789s.com
SUMMARY:The 789s Duo @ Post Time
DESCRIPTION:Spend your Thursday night with the 789s+ Duo at Post Time! 🎶 Brittany’s powerhouse vocals and Memphis’s guitar magic bring timeless hits and modern favorites to life in a stripped-down\, unforgettable style. Perfect for a night of great music\, good friends\, and the kind of vibes that keep you coming back. \n#Orlandolivemusic #PostTime #Thursdaynight
URL:https://rockthe789s.com/date/the-789s-duo-post-time/
LOCATION:Post Time\, 2500 S US Hwy 17 92\, Longwood\, FL\, 32750\, United States
ATTACH;FMTTYPE=image/png:https://rockthe789s.com/wp-content/uploads/2025/08/Post-Time-Logo.png
END:VEVENT
BEGIN:VEVENT
DTSTART;TZID=America/New_York:20251024T180000
DTEND;TZID=America/New_York:20251024T220000
DTSTAMP:20260423T233054
CREATED:20250910T181752Z
LAST-MODIFIED:20250910T182802Z
UID:8172-1761328800-1761343200@rockthe789s.com
SUMMARY:The 789s Duo @ Taps & Corks
DESCRIPTION:
URL:https://rockthe789s.com/date/the-789s-duo-taps-corks-copy-2/
LOCATION:Taps & Corks\, 125 W Bay Street\, Davenport\, FL\, 33837\, United States
ATTACH;FMTTYPE=image/png:https://rockthe789s.com/wp-content/uploads/2025/08/Taps-Corks_250x250.png
END:VEVENT
BEGIN:VEVENT
DTSTART;TZID=America/New_York:20251025T203000
DTEND;TZID=America/New_York:20251026T000000
DTSTAMP:20260423T233054
CREATED:20250825T151135Z
LAST-MODIFIED:20250825T151135Z
UID:8051-1761424200-1761436800@rockthe789s.com
SUMMARY:The 789s: Halloween Party @ Main Street
DESCRIPTION:
URL:https://rockthe789s.com/date/the-789s-halloween-party-main-street/
LOCATION:Main Street Station\, 316 Main Street\, Daytona\, FL\, 32118\, United States
ATTACH;FMTTYPE=image/webp:https://rockthe789s.com/wp-content/uploads/2025/08/msslogo200.webp
END:VEVENT
END:VCALENDAR