BEGIN:VCALENDAR
VERSION:2.0
PRODID:-//The 789s - ECPv6.15.13.1//NONSGML v1.0//EN
CALSCALE:GREGORIAN
METHOD:PUBLISH
X-ORIGINAL-URL:https://rockthe789s.com
X-WR-CALDESC:Events for The 789s
REFRESH-INTERVAL;VALUE=DURATION:PT1H
X-Robots-Tag:noindex
X-PUBLISHED-TTL:PT1H
BEGIN:VTIMEZONE
TZID:America/New_York
BEGIN:DAYLIGHT
TZOFFSETFROM:-0500
TZOFFSETTO:-0400
TZNAME:EDT
DTSTART:20240310T070000
END:DAYLIGHT
BEGIN:STANDARD
TZOFFSETFROM:-0400
TZOFFSETTO:-0500
TZNAME:EST
DTSTART:20241103T060000
END:STANDARD
BEGIN:DAYLIGHT
TZOFFSETFROM:-0500
TZOFFSETTO:-0400
TZNAME:EDT
DTSTART:20250309T070000
END:DAYLIGHT
BEGIN:STANDARD
TZOFFSETFROM:-0400
TZOFFSETTO:-0500
TZNAME:EST
DTSTART:20251102T060000
END:STANDARD
BEGIN:DAYLIGHT
TZOFFSETFROM:-0500
TZOFFSETTO:-0400
TZNAME:EDT
DTSTART:20260308T070000
END:DAYLIGHT
BEGIN:STANDARD
TZOFFSETFROM:-0400
TZOFFSETTO:-0500
TZNAME:EST
DTSTART:20261101T060000
END:STANDARD
END:VTIMEZONE
BEGIN:VEVENT
DTSTART;TZID=America/New_York:20251205T203000
DTEND;TZID=America/New_York:20251206T000000
DTSTAMP:20260423T210903
CREATED:20250825T140831Z
LAST-MODIFIED:20250903T203444Z
UID:8030-1764966600-1764979200@rockthe789s.com
SUMMARY:The 789s: Toys For Tots Drive @ Main Street Station
DESCRIPTION:
URL:https://rockthe789s.com/date/toys-for-tots-main-street/
LOCATION:Main Street Station\, 316 Main Street\, Daytona\, FL\, 32118\, United States
ATTACH;FMTTYPE=image/webp:https://rockthe789s.com/wp-content/uploads/2025/08/msslogo200.webp
END:VEVENT
BEGIN:VEVENT
DTSTART;TZID=America/New_York:20251213T210000
DTEND;TZID=America/New_York:20251213T230000
DTSTAMP:20260423T210903
CREATED:20250903T203637Z
LAST-MODIFIED:20251207T211730Z
UID:8163-1765659600-1765666800@rockthe789s.com
SUMMARY:The 789s at Hard Rock Tampa
DESCRIPTION:
URL:https://rockthe789s.com/date/the-789s-at-hard-rock-tampa/
LOCATION:Hard Rock Tampa\, 5223 Orient Road\, Tampa\, FL\, 33610\, United States
ATTACH;FMTTYPE=image/png:https://rockthe789s.com/wp-content/uploads/2025/08/c30173d7-5117-4914-9bca-129d180b6d9a.png
END:VEVENT
BEGIN:VEVENT
DTSTART;TZID=America/New_York:20251219T180000
DTEND;TZID=America/New_York:20251219T220000
DTSTAMP:20260423T210903
CREATED:20250825T182707Z
LAST-MODIFIED:20250903T203725Z
UID:8100-1766167200-1766181600@rockthe789s.com
SUMMARY:The 789s Duo @ Taps & Corks
DESCRIPTION:
URL:https://rockthe789s.com/date/the-789s-duo-taps-corks-copy/
LOCATION:Taps & Corks\, 125 W Bay Street\, Davenport\, FL\, 33837\, United States
ATTACH;FMTTYPE=image/png:https://rockthe789s.com/wp-content/uploads/2025/08/Taps-Corks_250x250.png
END:VEVENT
BEGIN:VEVENT
DTSTART;TZID=America/New_York:20251220T093000
DTEND;TZID=America/New_York:20251221T010000
DTSTAMP:20260423T210903
CREATED:20250825T135823Z
LAST-MODIFIED:20250825T140050Z
UID:8025-1766223000-1766278800@rockthe789s.com
SUMMARY:The 789s @ Cafe Davinci
DESCRIPTION:
URL:https://rockthe789s.com/date/the-789s-cafe-davinci/
LOCATION:Cafe Davinci\, 112 W. George Avenue\, Deland\, FL\, 32720\, United States
ATTACH;FMTTYPE=image/jpeg:https://rockthe789s.com/wp-content/uploads/2025/08/logo.jpg
END:VEVENT
BEGIN:VEVENT
DTSTART;TZID=America/New_York:20251231T170000
DTEND;TZID=America/New_York:20251231T210000
DTSTAMP:20260423T210903
CREATED:20250825T133130Z
LAST-MODIFIED:20251207T211444Z
UID:8016-1767200400-1767214800@rockthe789s.com
SUMMARY:The 789s: New Years Eve @ The Villages
DESCRIPTION:Come ring in 2026 with The 789s at Brownwood Paddock at The Villages! We’re going to have a great time dancing and singing the night away!! It’ll be a night you won’t want to miss!!!
URL:https://rockthe789s.com/date/nye-the-alley/
LOCATION:The Villages (Brownwood Paddock)\, 2705 W Torch Lake Drive\, Wildwood\, FL\, 32163\, United States
ATTACH;FMTTYPE=image/png:https://rockthe789s.com/wp-content/uploads/2025/08/The_Villages_text_logo.svg_.png
END:VEVENT
END:VCALENDAR