BEGIN:VCALENDAR
VERSION:2.0
PRODID:-//The 789s - ECPv6.15.13.1//NONSGML v1.0//EN
CALSCALE:GREGORIAN
METHOD:PUBLISH
X-WR-CALNAME:The 789s
X-ORIGINAL-URL:https://rockthe789s.com
X-WR-CALDESC:Events for The 789s
REFRESH-INTERVAL;VALUE=DURATION:PT1H
X-Robots-Tag:noindex
X-PUBLISHED-TTL:PT1H
BEGIN:VTIMEZONE
TZID:America/New_York
BEGIN:DAYLIGHT
TZOFFSETFROM:-0500
TZOFFSETTO:-0400
TZNAME:EDT
DTSTART:20250309T070000
END:DAYLIGHT
BEGIN:STANDARD
TZOFFSETFROM:-0400
TZOFFSETTO:-0500
TZNAME:EST
DTSTART:20251102T060000
END:STANDARD
BEGIN:DAYLIGHT
TZOFFSETFROM:-0500
TZOFFSETTO:-0400
TZNAME:EDT
DTSTART:20260308T070000
END:DAYLIGHT
BEGIN:STANDARD
TZOFFSETFROM:-0400
TZOFFSETTO:-0500
TZNAME:EST
DTSTART:20261101T060000
END:STANDARD
BEGIN:DAYLIGHT
TZOFFSETFROM:-0500
TZOFFSETTO:-0400
TZNAME:EDT
DTSTART:20270314T070000
END:DAYLIGHT
BEGIN:STANDARD
TZOFFSETFROM:-0400
TZOFFSETTO:-0500
TZNAME:EST
DTSTART:20271107T060000
END:STANDARD
END:VTIMEZONE
BEGIN:VEVENT
DTSTART;TZID=America/New_York:20260207T170000
DTEND;TZID=America/New_York:20260207T210000
DTSTAMP:20260423T183510
CREATED:20260123T015129Z
LAST-MODIFIED:20260123T020745Z
UID:8234-1770483600-1770498000@rockthe789s.com
SUMMARY:The 789s @ Brownwood Paddock in The Villages
DESCRIPTION:We’re back in action! We missed you!! After a raucous New Years Eve The 789s are ready to rock Brownwood again!!! Come out and help us make this a night to remember \n\n#BrownwoodPaddockSquare #TheVillages #TheVillagesEvents#TheVillagesFL #The789s
URL:https://rockthe789s.com/date/the-789s-brownwood-paddock-in-the-villages/
LOCATION:The Villages (Brownwood Paddock)\, 2705 W Torch Lake Drive\, Wildwood\, FL\, 32163\, United States
ATTACH;FMTTYPE=image/png:https://rockthe789s.com/wp-content/uploads/2025/08/The_Villages_text_logo.svg_.png
END:VEVENT
BEGIN:VEVENT
DTSTART;TZID=America/New_York:20260213T200000
DTEND;TZID=America/New_York:20260214T000000
DTSTAMP:20260423T183510
CREATED:20260123T015413Z
LAST-MODIFIED:20260123T015413Z
UID:8236-1771012800-1771027200@rockthe789s.com
SUMMARY:The 789s @ The Alley >>> A Killer Friday The 13th
DESCRIPTION:Have a killer Friday the 13th with The 789s at The Alley! Celebrate it with us and wear your favorite spooky shirt or outfit  Hope you’ll come out and rock the night away to the songs you forgot you loved from the 70s\, 80s and 90sWe’re dying to see you!!\n\n#OrlandoMusic #OrlandoMusicScene #SanfordFL #TheAlley#The789s
URL:https://rockthe789s.com/date/the-789s-the-alley-a-killer-friday-the-13th/
LOCATION:The Alley\, 114 S Park Avenue\, Sanford\, FL\, 32771\, United States
ATTACH;FMTTYPE=image/jpeg:https://rockthe789s.com/wp-content/uploads/2025/08/Alley-Logoi-240-x-240.jpg
END:VEVENT
BEGIN:VEVENT
DTSTART;TZID=America/New_York:20260228T160000
DTEND;TZID=America/New_York:20260228T190000
DTSTAMP:20260423T183510
CREATED:20260123T020545Z
LAST-MODIFIED:20260123T020545Z
UID:8242-1772294400-1772305200@rockthe789s.com
SUMMARY:The 789s @ Main Street Station for Bike Week
DESCRIPTION:The 789s are revved up for Bike Week at Main Street Station We’ll be rocking out the 70s\, 80s and 90s with a high energy performance that will have you singing along all night long. Start off bike week the musical fuel you need to rock the week in the best way possible!!!\n\n#BikeWeek #BikeWeek2026 #Daytona #DaytonaBikeWeek#DaytonaBikeWeek2026 #MainStreetStation #The789s
URL:https://rockthe789s.com/date/the-789s-main-street-station-for-bike-week/
ATTACH;FMTTYPE=image/webp:https://rockthe789s.com/wp-content/uploads/2025/08/msslogo200.webp
END:VEVENT
END:VCALENDAR