BEGIN:VCALENDAR
VERSION:2.0
PRODID:-//The 789s - ECPv6.15.13.1//NONSGML v1.0//EN
CALSCALE:GREGORIAN
METHOD:PUBLISH
X-WR-CALNAME:The 789s
X-ORIGINAL-URL:https://rockthe789s.com
X-WR-CALDESC:Events for The 789s
REFRESH-INTERVAL;VALUE=DURATION:PT1H
X-Robots-Tag:noindex
X-PUBLISHED-TTL:PT1H
BEGIN:VTIMEZONE
TZID:America/New_York
BEGIN:DAYLIGHT
TZOFFSETFROM:-0500
TZOFFSETTO:-0400
TZNAME:EDT
DTSTART:20250309T070000
END:DAYLIGHT
BEGIN:STANDARD
TZOFFSETFROM:-0400
TZOFFSETTO:-0500
TZNAME:EST
DTSTART:20251102T060000
END:STANDARD
BEGIN:DAYLIGHT
TZOFFSETFROM:-0500
TZOFFSETTO:-0400
TZNAME:EDT
DTSTART:20260308T070000
END:DAYLIGHT
BEGIN:STANDARD
TZOFFSETFROM:-0400
TZOFFSETTO:-0500
TZNAME:EST
DTSTART:20261101T060000
END:STANDARD
BEGIN:DAYLIGHT
TZOFFSETFROM:-0500
TZOFFSETTO:-0400
TZNAME:EDT
DTSTART:20270314T070000
END:DAYLIGHT
BEGIN:STANDARD
TZOFFSETFROM:-0400
TZOFFSETTO:-0500
TZNAME:EST
DTSTART:20271107T060000
END:STANDARD
END:VTIMEZONE
BEGIN:VEVENT
DTSTART;TZID=America/New_York:20260528T170000
DTEND;TZID=America/New_York:20260528T210000
DTSTAMP:20260423T170947
CREATED:20260419T020136Z
LAST-MODIFIED:20260419T020136Z
UID:8317-1779987600-1780002000@rockthe789s.com
SUMMARY:The 789s @ The Villages - Spanish Springs -
DESCRIPTION:The 789s make their debut at Spanish Springs! We’ll have you dancing and singing all night long to the songs you forgot you love from the 70s\, 80s and 90s. From classic rock to disco and pop\, all rocked out and ready go keep you moving on the dance floor   \n#spanishsprings #thevillages #thevillagesfl #the789s
URL:https://rockthe789s.com/date/the-789s-the-villages-spanish-springs/
LOCATION:The Villages (Spanish Springs)\, 1120 Main Street\, The Villages\, FL\, 34762\, United States
ATTACH;FMTTYPE=image/jpeg:https://rockthe789s.com/wp-content/uploads/2026/04/images.jpeg
END:VEVENT
BEGIN:VEVENT
DTSTART;TZID=America/New_York:20260530T200000
DTEND;TZID=America/New_York:20260530T230000
DTSTAMP:20260423T170947
CREATED:20260123T020253Z
LAST-MODIFIED:20260419T014151Z
UID:8238-1780171200-1780182000@rockthe789s.com
SUMMARY:The 789s @ Universal Citywalk Waterfront Stage
DESCRIPTION:The 789s are back at Citywalk! Get ready to dance and sing all night long to the songs you forgot you love from the 70s\, 80s and 90s. From classic rock to disco and pop\, all rocked out and ready to lift your spirits  \n\n#citywalk #universalstudios #789s
URL:https://rockthe789s.com/date/the-789s-universal-citywalk-waterfront-stage/
LOCATION:Universal Citywalk\, 6000 Universal Blvd\, Orlando\, FL 32819\, 6000 Universal Blvd\, Orlando\, FL\, 32819\, United States
ATTACH;FMTTYPE=image/jpeg:https://rockthe789s.com/wp-content/uploads/2026/01/universal_citywalk_half.jpg
END:VEVENT
END:VCALENDAR