BEGIN:VCALENDAR
VERSION:2.0
PRODID:-//The 789s - ECPv6.15.13.1//NONSGML v1.0//EN
CALSCALE:GREGORIAN
METHOD:PUBLISH
X-WR-CALNAME:The 789s
X-ORIGINAL-URL:https://rockthe789s.com
X-WR-CALDESC:Events for The 789s
REFRESH-INTERVAL;VALUE=DURATION:PT1H
X-Robots-Tag:noindex
X-PUBLISHED-TTL:PT1H
BEGIN:VTIMEZONE
TZID:America/New_York
BEGIN:DAYLIGHT
TZOFFSETFROM:-0500
TZOFFSETTO:-0400
TZNAME:EDT
DTSTART:20250309T070000
END:DAYLIGHT
BEGIN:STANDARD
TZOFFSETFROM:-0400
TZOFFSETTO:-0500
TZNAME:EST
DTSTART:20251102T060000
END:STANDARD
BEGIN:DAYLIGHT
TZOFFSETFROM:-0500
TZOFFSETTO:-0400
TZNAME:EDT
DTSTART:20260308T070000
END:DAYLIGHT
BEGIN:STANDARD
TZOFFSETFROM:-0400
TZOFFSETTO:-0500
TZNAME:EST
DTSTART:20261101T060000
END:STANDARD
BEGIN:DAYLIGHT
TZOFFSETFROM:-0500
TZOFFSETTO:-0400
TZNAME:EDT
DTSTART:20270314T070000
END:DAYLIGHT
BEGIN:STANDARD
TZOFFSETFROM:-0400
TZOFFSETTO:-0500
TZNAME:EST
DTSTART:20271107T060000
END:STANDARD
END:VTIMEZONE
BEGIN:VEVENT
DTSTART;TZID=America/New_York:20260710T213000
DTEND;TZID=America/New_York:20260711T003000
DTSTAMP:20260423T192736
CREATED:20260214T201327Z
LAST-MODIFIED:20260419T013733Z
UID:8293-1783719000-1783729800@rockthe789s.com
SUMMARY:The 789s @ Voodoo Bayou - Nick's Bday Bash -
DESCRIPTION:It’ll be a wild night with The 789s! Not only is it our 1st time at Voodoo but it’s Nick birthday  We’ll be partying extra hard all night long to the songs you forgot you love from the 70s\, 80s and 90s. From classic rock to disco and pop\, all rocked out and ready go keep you moving on the dance floor  \n\n#drphillips #orlandomusic #orlandomusicscene #the789s #voodoobayou
URL:https://rockthe789s.com/date/the-789s-voodoo-bayou-orlando/
LOCATION:Voodoo Bayou\, 7525 W Sand Lake Rd\, Orlando\, 32819\, United States
ATTACH;FMTTYPE=image/png:https://rockthe789s.com/wp-content/uploads/2026/02/images-2.png
END:VEVENT
BEGIN:VEVENT
DTSTART;TZID=America/New_York:20260711T093000
DTEND;TZID=America/New_York:20260712T010000
DTSTAMP:20260423T192736
CREATED:20260419T014422Z
LAST-MODIFIED:20260419T014422Z
UID:8309-1783762200-1783818000@rockthe789s.com
SUMMARY:The 789s @ Cafe Davinci
DESCRIPTION:The 789s party weekend continues! Come out Saturday and celebrate night 2 of Nicks bday to the songs you forgot you love from the 70s\, 80s and 90s. From classic rock to disco and pop\, all rocked out and ready go keep you moving on the dance floor \n\n#cafedavinci #deland #the789s
URL:https://rockthe789s.com/date/the-789s-cafe-davinci-2/
LOCATION:Cafe Davinci\, 112 W. George Avenue\, Deland\, FL\, 32720\, United States
ATTACH;FMTTYPE=image/jpeg:https://rockthe789s.com/wp-content/uploads/2025/08/logo.jpg
END:VEVENT
BEGIN:VEVENT
DTSTART;TZID=America/New_York:20260718T200000
DTEND;TZID=America/New_York:20260718T230000
DTSTAMP:20260423T192736
CREATED:20260419T014256Z
LAST-MODIFIED:20260419T014256Z
UID:8307-1784404800-1784415600@rockthe789s.com
SUMMARY:The 789s @ Universal Citywalk Waterfront Stage
DESCRIPTION:The 789s are back at Citywalk! The only thing hotter than Florida in July is dancing and singing to the songs you forgot you love from the 70s\, 80s and 90s with The 789s. From classic rock to disco and pop\, all rocked out and ready to lift your spirits  \n\n#citywalk #universalstudios #789s
URL:https://rockthe789s.com/date/the-789s-universal-citywalk-waterfront-stage-2/
LOCATION:Universal Citywalk\, 6000 Universal Blvd\, Orlando\, FL 32819\, 6000 Universal Blvd\, Orlando\, FL\, 32819\, United States
ATTACH;FMTTYPE=image/jpeg:https://rockthe789s.com/wp-content/uploads/2026/01/universal_citywalk_half.jpg
END:VEVENT
BEGIN:VEVENT
DTSTART;TZID=America/New_York:20260725T193000
DTEND;TZID=America/New_York:20260725T233000
DTSTAMP:20260423T192736
CREATED:20260131T194019Z
LAST-MODIFIED:20260419T014014Z
UID:8280-1785007800-1785022200@rockthe789s.com
SUMMARY:The 789s @ Capt Hiram's Resort
DESCRIPTION:The 789s will make sure you’re shook all night long! Come dance and sing to the songs you forgot you love from the 70s\, 80s and 90s. From classic rock to disco and pop\, all rocked out and ready to make this night an unforgettable one!  \n\n#capthirams #Sebastian #789s
URL:https://rockthe789s.com/date/the-789s-capt-hirams-resort/
LOCATION:Capt Hiram’s\, 1580 US Highway 1\, Sebastian\, 32958\, United States
ATTACH;FMTTYPE=image/png:https://rockthe789s.com/wp-content/uploads/2026/01/images.png
END:VEVENT
END:VCALENDAR