BEGIN:VCALENDAR
VERSION:2.0
PRODID:-//The 789s - ECPv6.15.13.1//NONSGML v1.0//EN
CALSCALE:GREGORIAN
METHOD:PUBLISH
X-ORIGINAL-URL:https://rockthe789s.com
X-WR-CALDESC:Events for The 789s
REFRESH-INTERVAL;VALUE=DURATION:PT1H
X-Robots-Tag:noindex
X-PUBLISHED-TTL:PT1H
BEGIN:VTIMEZONE
TZID:America/New_York
BEGIN:DAYLIGHT
TZOFFSETFROM:-0500
TZOFFSETTO:-0400
TZNAME:EDT
DTSTART:20250309T070000
END:DAYLIGHT
BEGIN:STANDARD
TZOFFSETFROM:-0400
TZOFFSETTO:-0500
TZNAME:EST
DTSTART:20251102T060000
END:STANDARD
BEGIN:DAYLIGHT
TZOFFSETFROM:-0500
TZOFFSETTO:-0400
TZNAME:EDT
DTSTART:20260308T070000
END:DAYLIGHT
BEGIN:STANDARD
TZOFFSETFROM:-0400
TZOFFSETTO:-0500
TZNAME:EST
DTSTART:20261101T060000
END:STANDARD
BEGIN:DAYLIGHT
TZOFFSETFROM:-0500
TZOFFSETTO:-0400
TZNAME:EDT
DTSTART:20270314T070000
END:DAYLIGHT
BEGIN:STANDARD
TZOFFSETFROM:-0400
TZOFFSETTO:-0500
TZNAME:EST
DTSTART:20271107T060000
END:STANDARD
END:VTIMEZONE
BEGIN:VEVENT
DTSTART;TZID=America/New_York:20260425T130000
DTEND;TZID=America/New_York:20260425T150000
DTSTAMP:20260423T160803
CREATED:20260419T114443Z
LAST-MODIFIED:20260419T114443Z
UID:8321-1777122000-1777129200@rockthe789s.com
SUMMARY:The 789s @ Leesburg Bikefest
DESCRIPTION:The 789s are all rev’d up to be performing at Leesburg Bike Fest!!! Come catch us on the Budweiser Main Stage as we perform the songs you forgot you loved from the 70s\, 80s and 90s. The energy will be off the charts as we kick the day off\n\n#coverband #leesburgfl #leesburgbikefest #the789s
URL:https://rockthe789s.com/date/the-789s-leesburg-bikefest/
LOCATION:Leesburg Bikefest\, Budweiser Main Stage\, 501 W Meadow St.\, FL\, 34748\, United States
ATTACH;FMTTYPE=image/png:https://rockthe789s.com/wp-content/uploads/2026/04/BF-2026-.png
END:VEVENT
END:VCALENDAR